BEGIN:VCALENDAR
VERSION:2.0
PRODID:-//Locust Hills Golf Club - ECPv6.15.20//NONSGML v1.0//EN
CALSCALE:GREGORIAN
METHOD:PUBLISH
X-WR-CALNAME:Locust Hills Golf Club
X-ORIGINAL-URL:https://locusthillsgc.com
X-WR-CALDESC:Events for Locust Hills Golf Club
REFRESH-INTERVAL;VALUE=DURATION:PT1H
X-Robots-Tag:noindex
X-PUBLISHED-TTL:PT1H
BEGIN:VTIMEZONE
TZID:America/Toronto
BEGIN:DAYLIGHT
TZOFFSETFROM:-0500
TZOFFSETTO:-0400
TZNAME:EDT
DTSTART:20160313T070000
END:DAYLIGHT
BEGIN:STANDARD
TZOFFSETFROM:-0400
TZOFFSETTO:-0500
TZNAME:EST
DTSTART:20161106T060000
END:STANDARD
BEGIN:DAYLIGHT
TZOFFSETFROM:-0500
TZOFFSETTO:-0400
TZNAME:EDT
DTSTART:20170312T070000
END:DAYLIGHT
BEGIN:STANDARD
TZOFFSETFROM:-0400
TZOFFSETTO:-0500
TZNAME:EST
DTSTART:20171105T060000
END:STANDARD
BEGIN:DAYLIGHT
TZOFFSETFROM:-0500
TZOFFSETTO:-0400
TZNAME:EDT
DTSTART:20180311T070000
END:DAYLIGHT
BEGIN:STANDARD
TZOFFSETFROM:-0400
TZOFFSETTO:-0500
TZNAME:EST
DTSTART:20181104T060000
END:STANDARD
BEGIN:DAYLIGHT
TZOFFSETFROM:-0500
TZOFFSETTO:-0400
TZNAME:EDT
DTSTART:20190310T070000
END:DAYLIGHT
BEGIN:STANDARD
TZOFFSETFROM:-0400
TZOFFSETTO:-0500
TZNAME:EST
DTSTART:20191103T060000
END:STANDARD
BEGIN:DAYLIGHT
TZOFFSETFROM:-0500
TZOFFSETTO:-0400
TZNAME:EDT
DTSTART:20200308T070000
END:DAYLIGHT
BEGIN:STANDARD
TZOFFSETFROM:-0400
TZOFFSETTO:-0500
TZNAME:EST
DTSTART:20201101T060000
END:STANDARD
BEGIN:DAYLIGHT
TZOFFSETFROM:-0500
TZOFFSETTO:-0400
TZNAME:EDT
DTSTART:20210314T070000
END:DAYLIGHT
BEGIN:STANDARD
TZOFFSETFROM:-0400
TZOFFSETTO:-0500
TZNAME:EST
DTSTART:20211107T060000
END:STANDARD
BEGIN:DAYLIGHT
TZOFFSETFROM:-0500
TZOFFSETTO:-0400
TZNAME:EDT
DTSTART:20220313T070000
END:DAYLIGHT
BEGIN:STANDARD
TZOFFSETFROM:-0400
TZOFFSETTO:-0500
TZNAME:EST
DTSTART:20221106T060000
END:STANDARD
END:VTIMEZONE
BEGIN:VEVENT
DTSTART;TZID=America/Toronto:20210604T150000
DTEND;TZID=America/Toronto:20210604T190000
DTSTAMP:20260421T104804
CREATED:20210212T153842Z
LAST-MODIFIED:20210212T153904Z
UID:14575-1622818800-1622833200@locusthillsgc.com
SUMMARY:Food Truck Friday Flying Pepper
DESCRIPTION:
URL:https://locusthillsgc.com/event/food-truck-friday/
ATTACH;FMTTYPE=image/jpeg:https://locusthillsgc.com/wp-content/uploads/2021/02/42710896_2283511518390251_3308111762749915136_n.jpg
END:VEVENT
BEGIN:VEVENT
DTSTART;TZID=America/Toronto:20210528T140000
DTEND;TZID=America/Toronto:20210528T190000
DTSTAMP:20260421T104804
CREATED:20210212T153117Z
LAST-MODIFIED:20210212T153117Z
UID:14566-1622210400-1622228400@locusthillsgc.com
SUMMARY:Food Truck Friday Schmidt's Sausage Truck
DESCRIPTION:
URL:https://locusthillsgc.com/event/food-truck-friday-schmidts-sausage-truck/
ATTACH;FMTTYPE=image/png:https://locusthillsgc.com/wp-content/uploads/2021/02/SST-Logo-300ppi-002.png
END:VEVENT
BEGIN:VEVENT
DTSTART;TZID=America/Toronto:20210510T110000
DTEND;TZID=America/Toronto:20210510T130000
DTSTAMP:20260421T104804
CREATED:20210211T190423Z
LAST-MODIFIED:20210211T190423Z
UID:14546-1620644400-1620651600@locusthillsgc.com
SUMMARY:Ladies Clinic May Session
DESCRIPTION:
URL:https://locusthillsgc.com/event/ladies-clinic-may-session/
ATTACH;FMTTYPE=image/jpeg:https://locusthillsgc.com/wp-content/uploads/2021/02/golf_outing_3.jpg
END:VEVENT
BEGIN:VEVENT
DTSTART;TZID=America/Toronto:20210501T083000
DTEND;TZID=America/Toronto:20210501T133000
DTSTAMP:20260421T104804
CREATED:20200130T014811Z
LAST-MODIFIED:20210127T211938Z
UID:11389-1619857800-1619875800@locusthillsgc.com
SUMMARY:Kick-Off Scramble
DESCRIPTION:Annual 2-Person Scramble
URL:https://locusthillsgc.com/event/kick-off-scramble-2/
END:VEVENT
BEGIN:VEVENT
DTSTART;VALUE=DATE:20200530
DTEND;VALUE=DATE:20200601
DTSTAMP:20260421T104804
CREATED:20200130T020728Z
LAST-MODIFIED:20200221T145135Z
UID:11413-1590796800-1590969599@locusthillsgc.com
SUMMARY:Club Championship
DESCRIPTION:Divisions for Men\, Ladies\, Senior\, and Super Senior
URL:https://locusthillsgc.com/event/club-championship/
END:VEVENT
BEGIN:VEVENT
DTSTART;TZID=America/Toronto:20200129T080000
DTEND;TZID=America/Toronto:20200129T170000
DTSTAMP:20260421T104804
CREATED:20200130T020501Z
LAST-MODIFIED:20200130T020501Z
UID:11408-1580284800-1580317200@locusthillsgc.com
SUMMARY:Ladies Cup
DESCRIPTION:Annual Solheim Cup Style Format
URL:https://locusthillsgc.com/event/ladies-cup/
END:VEVENT
BEGIN:VEVENT
DTSTART;VALUE=DATE:20171224
DTEND;VALUE=DATE:20180102
DTSTAMP:20260421T104804
CREATED:20171031T154443Z
LAST-MODIFIED:20171031T171021Z
UID:4720-1514073600-1514851199@locusthillsgc.com
SUMMARY:Clubhouse Closed
DESCRIPTION:Closed to Celebrate the Christmas Season\nMerry Christmas\n \nClubhouse and Course will Be closed during this time period
URL:https://locusthillsgc.com/event/clubhouse-closed/
END:VEVENT
BEGIN:VEVENT
DTSTART;VALUE=DATE:20171123
DTEND;VALUE=DATE:20171124
DTSTAMP:20260421T104804
CREATED:20171121T164112Z
LAST-MODIFIED:20171121T164112Z
UID:4885-1511395200-1511481599@locusthillsgc.com
SUMMARY:Happy Thanksgiving!
DESCRIPTION:Locust Hills will be closed to celebrate Thanksgiving! \nOpen Black Friday!!
URL:https://locusthillsgc.com/event/happy-thanksgiving/
END:VEVENT
END:VCALENDAR