BEGIN:VCALENDAR
VERSION:2.0
PRODID:-//Locust Hills Golf Club - ECPv6.15.20//NONSGML v1.0//EN
CALSCALE:GREGORIAN
METHOD:PUBLISH
X-WR-CALNAME:Locust Hills Golf Club
X-ORIGINAL-URL:https://locusthillsgc.com
X-WR-CALDESC:Events for Locust Hills Golf Club
REFRESH-INTERVAL;VALUE=DURATION:PT1H
X-Robots-Tag:noindex
X-PUBLISHED-TTL:PT1H
BEGIN:VTIMEZONE
TZID:America/Toronto
BEGIN:DAYLIGHT
TZOFFSETFROM:-0500
TZOFFSETTO:-0400
TZNAME:EDT
DTSTART:20160313T070000
END:DAYLIGHT
BEGIN:STANDARD
TZOFFSETFROM:-0400
TZOFFSETTO:-0500
TZNAME:EST
DTSTART:20161106T060000
END:STANDARD
BEGIN:DAYLIGHT
TZOFFSETFROM:-0500
TZOFFSETTO:-0400
TZNAME:EDT
DTSTART:20170312T070000
END:DAYLIGHT
BEGIN:STANDARD
TZOFFSETFROM:-0400
TZOFFSETTO:-0500
TZNAME:EST
DTSTART:20171105T060000
END:STANDARD
BEGIN:DAYLIGHT
TZOFFSETFROM:-0500
TZOFFSETTO:-0400
TZNAME:EDT
DTSTART:20180311T070000
END:DAYLIGHT
BEGIN:STANDARD
TZOFFSETFROM:-0400
TZOFFSETTO:-0500
TZNAME:EST
DTSTART:20181104T060000
END:STANDARD
BEGIN:DAYLIGHT
TZOFFSETFROM:-0500
TZOFFSETTO:-0400
TZNAME:EDT
DTSTART:20190310T070000
END:DAYLIGHT
BEGIN:STANDARD
TZOFFSETFROM:-0400
TZOFFSETTO:-0500
TZNAME:EST
DTSTART:20191103T060000
END:STANDARD
BEGIN:DAYLIGHT
TZOFFSETFROM:-0500
TZOFFSETTO:-0400
TZNAME:EDT
DTSTART:20200308T070000
END:DAYLIGHT
BEGIN:STANDARD
TZOFFSETFROM:-0400
TZOFFSETTO:-0500
TZNAME:EST
DTSTART:20201101T060000
END:STANDARD
BEGIN:DAYLIGHT
TZOFFSETFROM:-0500
TZOFFSETTO:-0400
TZNAME:EDT
DTSTART:20210314T070000
END:DAYLIGHT
BEGIN:STANDARD
TZOFFSETFROM:-0400
TZOFFSETTO:-0500
TZNAME:EST
DTSTART:20211107T060000
END:STANDARD
BEGIN:DAYLIGHT
TZOFFSETFROM:-0500
TZOFFSETTO:-0400
TZNAME:EDT
DTSTART:20220313T070000
END:DAYLIGHT
BEGIN:STANDARD
TZOFFSETFROM:-0400
TZOFFSETTO:-0500
TZNAME:EST
DTSTART:20221106T060000
END:STANDARD
BEGIN:DAYLIGHT
TZOFFSETFROM:-0500
TZOFFSETTO:-0400
TZNAME:EDT
DTSTART:20230312T070000
END:DAYLIGHT
BEGIN:STANDARD
TZOFFSETFROM:-0400
TZOFFSETTO:-0500
TZNAME:EST
DTSTART:20231105T060000
END:STANDARD
END:VTIMEZONE
BEGIN:VEVENT
DTSTART;TZID=America/Toronto:20220528T080000
DTEND;TZID=America/Toronto:20220528T123000
DTSTAMP:20260421T075818
CREATED:20220216T163549Z
LAST-MODIFIED:20220216T163549Z
UID:18499-1653724800-1653741000@locusthillsgc.com
SUMMARY:Memorial Day 8:00 AM Shamble
DESCRIPTION:
URL:https://locusthillsgc.com/event/memorial-day-800-am-shamble/
END:VEVENT
BEGIN:VEVENT
DTSTART;TZID=America/Toronto:20220430T083000
DTEND;TZID=America/Toronto:20220430T130000
DTSTAMP:20260421T075818
CREATED:20220216T163403Z
LAST-MODIFIED:20220216T163403Z
UID:18495-1651307400-1651323600@locusthillsgc.com
SUMMARY:Kick-Off Scramble
DESCRIPTION:
URL:https://locusthillsgc.com/event/kick-off-scramble/
END:VEVENT
BEGIN:VEVENT
DTSTART;TZID=America/Toronto:20220315T140000
DTEND;TZID=America/Toronto:20220315T190000
DTSTAMP:20260421T075818
CREATED:20220315T214220Z
LAST-MODIFIED:20220315T222743Z
UID:18778-1647352800-1647370800@locusthillsgc.com
SUMMARY:Food Truck Friday Tommy's Double Barrel BBQ
DESCRIPTION:
URL:https://locusthillsgc.com/event/food-truck-friday-tommys-double-barrel-bbq/
END:VEVENT
BEGIN:VEVENT
DTSTART;TZID=America/Toronto:20211009T090000
DTEND;TZID=America/Toronto:20211009T133000
DTSTAMP:20260421T075818
CREATED:20200130T015048Z
LAST-MODIFIED:20210127T211601Z
UID:11393-1633770000-1633786200@locusthillsgc.com
SUMMARY:Triple Play Scramble
DESCRIPTION:Annual 3-club\, 3-person scramble
URL:https://locusthillsgc.com/event/triple-play-scramble-2/
END:VEVENT
BEGIN:VEVENT
DTSTART;TZID=America/Toronto:20210828T120000
DTEND;TZID=America/Toronto:20210829T170000
DTSTAMP:20260421T075818
CREATED:20210212T154922Z
LAST-MODIFIED:20210212T154922Z
UID:14587-1630152000-1630256400@locusthillsgc.com
SUMMARY:Club Championship
DESCRIPTION:
URL:https://locusthillsgc.com/event/club-championship-2/
ATTACH;FMTTYPE=image/jpeg:https://locusthillsgc.com/wp-content/uploads/2017/09/1-Locust.jpg
END:VEVENT
BEGIN:VEVENT
DTSTART;TZID=America/Toronto:20210802T083000
DTEND;TZID=America/Toronto:20210804T110000
DTSTAMP:20260421T075818
CREATED:20210127T212539Z
LAST-MODIFIED:20210127T212539Z
UID:14041-1627893000-1628074800@locusthillsgc.com
SUMMARY:Junior Golf Camps #2
DESCRIPTION:
URL:https://locusthillsgc.com/event/junior-golf-camps-2/
END:VEVENT
BEGIN:VEVENT
DTSTART;TZID=America/Toronto:20210729T090000
DTEND;TZID=America/Toronto:20210729T113000
DTSTAMP:20260421T075818
CREATED:20210320T163945Z
LAST-MODIFIED:20210320T163945Z
UID:15077-1627549200-1627558200@locusthillsgc.com
SUMMARY:Summer League Week 8
DESCRIPTION:2 Divisions for 2 Different Ages and Skill Level \nMiddle School Through High School \nRegistration Cost: $10 \nWeekly Cost: $5
URL:https://locusthillsgc.com/event/summer-league-week-8/
ATTACH;FMTTYPE=image/jpeg:https://locusthillsgc.com/wp-content/uploads/2021/03/maxresdefault.jpg
END:VEVENT
BEGIN:VEVENT
DTSTART;TZID=America/Toronto:20210722T090000
DTEND;TZID=America/Toronto:20210722T113000
DTSTAMP:20260421T075818
CREATED:20210320T155017Z
LAST-MODIFIED:20210320T155017Z
UID:15072-1626944400-1626953400@locusthillsgc.com
SUMMARY:Summer Golf League Week 7
DESCRIPTION:2 Divisions for 2 Different Ages and Skill Level \nMiddle School Through High School \nRegistration Cost: $10 \nWeekly Cost: $5
URL:https://locusthillsgc.com/event/summer-golf-league-week-7/
ATTACH;FMTTYPE=image/jpeg:https://locusthillsgc.com/wp-content/uploads/2021/03/img-1.jpg
END:VEVENT
BEGIN:VEVENT
DTSTART;TZID=America/Toronto:20210715T090000
DTEND;TZID=America/Toronto:20210715T113000
DTSTAMP:20260421T075818
CREATED:20210320T154607Z
LAST-MODIFIED:20210320T154857Z
UID:15068-1626339600-1626348600@locusthillsgc.com
SUMMARY:Summer Golf League Week 6
DESCRIPTION:2 Divisions for 2 Different Ages and Skill Level \nMiddle School Through High School \nRegistration Cost: $10 \nWeekly Cost: $5
URL:https://locusthillsgc.com/event/summer-golf-league-week-6/
ATTACH;FMTTYPE=image/jpeg:https://locusthillsgc.com/wp-content/uploads/2021/03/maxresdefault.jpg
END:VEVENT
BEGIN:VEVENT
DTSTART;TZID=America/Toronto:20210712T083000
DTEND;TZID=America/Toronto:20210714T230000
DTSTAMP:20260421T075818
CREATED:20210127T212432Z
LAST-MODIFIED:20210127T212432Z
UID:14038-1626078600-1626303600@locusthillsgc.com
SUMMARY:Junior Golf Camps Session #1
DESCRIPTION:2 age divisions: \n6-9 and 10-13
URL:https://locusthillsgc.com/event/junior-golf-camps-session-1/
END:VEVENT
BEGIN:VEVENT
DTSTART;TZID=America/Toronto:20210708T090000
DTEND;TZID=America/Toronto:20210708T113000
DTSTAMP:20260421T075818
CREATED:20210320T144036Z
LAST-MODIFIED:20210320T144036Z
UID:15065-1625734800-1625743800@locusthillsgc.com
SUMMARY:Summer Golf League Week 5
DESCRIPTION:2 Divisions for 2 Different Ages and Skill Level \nMiddle School Through High School \nRegistration Cost: $10 \nWeekly Cost: $5
URL:https://locusthillsgc.com/event/summer-golf-league-week-5/
ATTACH;FMTTYPE=image/jpeg:https://locusthillsgc.com/wp-content/uploads/2021/03/AR-200809781.jpg
END:VEVENT
BEGIN:VEVENT
DTSTART;TZID=America/Toronto:20210703T083000
DTEND;TZID=America/Toronto:20210703T140000
DTSTAMP:20260421T075818
CREATED:20190302T024810Z
LAST-MODIFIED:20210127T211853Z
UID:7262-1625301000-1625320800@locusthillsgc.com
SUMMARY:Red\, White\, and Blue Bash
DESCRIPTION:4-Man Scramble with a Twist
URL:https://locusthillsgc.com/event/red-white-and-blue-bash/
ATTACH;FMTTYPE=image/jpeg:https://locusthillsgc.com/wp-content/uploads/2018/06/july4-gop.jpg
END:VEVENT
BEGIN:VEVENT
DTSTART;TZID=America/Toronto:20210701T090000
DTEND;TZID=America/Toronto:20210701T113000
DTSTAMP:20260421T075818
CREATED:20210320T143207Z
LAST-MODIFIED:20210320T143207Z
UID:15062-1625130000-1625139000@locusthillsgc.com
SUMMARY:Summer Golf League Week 4
DESCRIPTION:2 Divisions for 2 Different Ages and Skill Level \nMiddle School Through High School \nRegistration Cost: $10 \nWeekly Cost: $5
URL:https://locusthillsgc.com/event/summer-golf-league-week-4/
ATTACH;FMTTYPE=image/jpeg:https://locusthillsgc.com/wp-content/uploads/2021/03/img-1.jpg
END:VEVENT
BEGIN:VEVENT
DTSTART;TZID=America/Toronto:20210625T140000
DTEND;TZID=America/Toronto:20210625T190000
DTSTAMP:20260421T075818
CREATED:20210212T154126Z
LAST-MODIFIED:20210212T154307Z
UID:14582-1624629600-1624647600@locusthillsgc.com
SUMMARY:Food Truck Friday T.G.I.F.
DESCRIPTION:
URL:https://locusthillsgc.com/event/food-truck-friday-t-g-i-f/
ATTACH;FMTTYPE=image/jpeg:https://locusthillsgc.com/wp-content/uploads/2021/02/100743347_101204744952460_6435411007270551552_n.jpg
END:VEVENT
BEGIN:VEVENT
DTSTART;TZID=America/Toronto:20210624T090000
DTEND;TZID=America/Toronto:20210624T113000
DTSTAMP:20260421T075818
CREATED:20210320T143027Z
LAST-MODIFIED:20210320T143027Z
UID:15059-1624525200-1624534200@locusthillsgc.com
SUMMARY:Summer Golf League Week 3
DESCRIPTION:2 Divisions for 2 Different Ages and Skill Level \nMiddle School Through High School \nRegistration Cost: $10 \nWeekly Cost: $5
URL:https://locusthillsgc.com/event/summer-golf-league-week-3/
ATTACH;FMTTYPE=image/jpeg:https://locusthillsgc.com/wp-content/uploads/2021/03/AR-200809781.jpg
END:VEVENT
BEGIN:VEVENT
DTSTART;TZID=America/Toronto:20210618T150000
DTEND;TZID=America/Toronto:20210618T190000
DTSTAMP:20260421T075818
CREATED:20200221T021919Z
LAST-MODIFIED:20210212T153426Z
UID:11700-1624028400-1624042800@locusthillsgc.com
SUMMARY:Friday Food Truck- Thai 1 On
DESCRIPTION:
URL:https://locusthillsgc.com/event/friday-food-truck-thai-1-on/
ATTACH;FMTTYPE=image/png:https://locusthillsgc.com/wp-content/uploads/2020/02/thai1one.png
END:VEVENT
BEGIN:VEVENT
DTSTART;TZID=America/Toronto:20210617T090000
DTEND;TZID=America/Toronto:20210617T113000
DTSTAMP:20260421T075818
CREATED:20210320T142856Z
LAST-MODIFIED:20210320T142856Z
UID:15056-1623920400-1623929400@locusthillsgc.com
SUMMARY:Summer Golf League Week 2
DESCRIPTION:2 Divisions for 2 Different Ages and Skill Level \nMiddle School Through High School \nRegistration Cost: $10 \nWeekly Cost: $5
URL:https://locusthillsgc.com/event/summer-golf-league-week-2/
ATTACH;FMTTYPE=image/jpeg:https://locusthillsgc.com/wp-content/uploads/2021/03/maxresdefault.jpg
END:VEVENT
BEGIN:VEVENT
DTSTART;TZID=America/Toronto:20210611T160000
DTEND;TZID=America/Toronto:20210611T190000
DTSTAMP:20260421T075818
CREATED:20200221T022041Z
LAST-MODIFIED:20210212T153648Z
UID:11703-1623427200-1623438000@locusthillsgc.com
SUMMARY:Friday Food Truck- Fat Racks
DESCRIPTION:
URL:https://locusthillsgc.com/event/friday-food-truck-fat-racks/
ATTACH;FMTTYPE=image/jpeg:https://locusthillsgc.com/wp-content/uploads/2020/02/Fat-Racks-Logo.jpg
END:VEVENT
BEGIN:VEVENT
DTSTART;TZID=America/Toronto:20210610T090000
DTEND;TZID=America/Toronto:20210610T113000
DTSTAMP:20260421T075818
CREATED:20210320T141941Z
LAST-MODIFIED:20210320T142451Z
UID:15046-1623315600-1623324600@locusthillsgc.com
SUMMARY:Summer Golf League week 1
DESCRIPTION:2 Divisions for 2 Different Ages and Skill Level \nMiddle School Through High School \nRegistration Cost: $10 \nWeekly Cost: $5
URL:https://locusthillsgc.com/event/summer-golf-league/
ATTACH;FMTTYPE=image/jpeg:https://locusthillsgc.com/wp-content/uploads/2021/03/img-1.jpg
END:VEVENT
BEGIN:VEVENT
DTSTART;TZID=America/Toronto:20210604T173000
DTEND;TZID=America/Toronto:20210604T193000
DTSTAMP:20260421T075818
CREATED:20210211T190624Z
LAST-MODIFIED:20210211T190624Z
UID:14549-1622827800-1622835000@locusthillsgc.com
SUMMARY:Ladies Clinic June Session
DESCRIPTION:
URL:https://locusthillsgc.com/event/ladies-clinic-june-session/
ATTACH;FMTTYPE=image/png:https://locusthillsgc.com/wp-content/uploads/2021/02/Women-Golfers_homefinal11.png
END:VEVENT
BEGIN:VEVENT
DTSTART;TZID=America/Toronto:20210604T150000
DTEND;TZID=America/Toronto:20210604T190000
DTSTAMP:20260421T075818
CREATED:20210212T153842Z
LAST-MODIFIED:20210212T153904Z
UID:14575-1622818800-1622833200@locusthillsgc.com
SUMMARY:Food Truck Friday Flying Pepper
DESCRIPTION:
URL:https://locusthillsgc.com/event/food-truck-friday/
ATTACH;FMTTYPE=image/jpeg:https://locusthillsgc.com/wp-content/uploads/2021/02/42710896_2283511518390251_3308111762749915136_n.jpg
END:VEVENT
BEGIN:VEVENT
DTSTART;TZID=America/Toronto:20210528T140000
DTEND;TZID=America/Toronto:20210528T190000
DTSTAMP:20260421T075818
CREATED:20210212T153117Z
LAST-MODIFIED:20210212T153117Z
UID:14566-1622210400-1622228400@locusthillsgc.com
SUMMARY:Food Truck Friday Schmidt's Sausage Truck
DESCRIPTION:
URL:https://locusthillsgc.com/event/food-truck-friday-schmidts-sausage-truck/
ATTACH;FMTTYPE=image/png:https://locusthillsgc.com/wp-content/uploads/2021/02/SST-Logo-300ppi-002.png
END:VEVENT
BEGIN:VEVENT
DTSTART;TZID=America/Toronto:20210510T110000
DTEND;TZID=America/Toronto:20210510T130000
DTSTAMP:20260421T075818
CREATED:20210211T190423Z
LAST-MODIFIED:20210211T190423Z
UID:14546-1620644400-1620651600@locusthillsgc.com
SUMMARY:Ladies Clinic May Session
DESCRIPTION:
URL:https://locusthillsgc.com/event/ladies-clinic-may-session/
ATTACH;FMTTYPE=image/jpeg:https://locusthillsgc.com/wp-content/uploads/2021/02/golf_outing_3.jpg
END:VEVENT
BEGIN:VEVENT
DTSTART;TZID=America/Toronto:20210501T083000
DTEND;TZID=America/Toronto:20210501T133000
DTSTAMP:20260421T075818
CREATED:20200130T014811Z
LAST-MODIFIED:20210127T211938Z
UID:11389-1619857800-1619875800@locusthillsgc.com
SUMMARY:Kick-Off Scramble
DESCRIPTION:Annual 2-Person Scramble
URL:https://locusthillsgc.com/event/kick-off-scramble-2/
END:VEVENT
BEGIN:VEVENT
DTSTART;VALUE=DATE:20200530
DTEND;VALUE=DATE:20200601
DTSTAMP:20260421T075818
CREATED:20200130T020728Z
LAST-MODIFIED:20200221T145135Z
UID:11413-1590796800-1590969599@locusthillsgc.com
SUMMARY:Club Championship
DESCRIPTION:Divisions for Men\, Ladies\, Senior\, and Super Senior
URL:https://locusthillsgc.com/event/club-championship/
END:VEVENT
BEGIN:VEVENT
DTSTART;TZID=America/Toronto:20200129T080000
DTEND;TZID=America/Toronto:20200129T170000
DTSTAMP:20260421T075818
CREATED:20200130T020501Z
LAST-MODIFIED:20200130T020501Z
UID:11408-1580284800-1580317200@locusthillsgc.com
SUMMARY:Ladies Cup
DESCRIPTION:Annual Solheim Cup Style Format
URL:https://locusthillsgc.com/event/ladies-cup/
END:VEVENT
BEGIN:VEVENT
DTSTART;VALUE=DATE:20171224
DTEND;VALUE=DATE:20180102
DTSTAMP:20260421T075818
CREATED:20171031T154443Z
LAST-MODIFIED:20171031T171021Z
UID:4720-1514073600-1514851199@locusthillsgc.com
SUMMARY:Clubhouse Closed
DESCRIPTION:Closed to Celebrate the Christmas Season\nMerry Christmas\n \nClubhouse and Course will Be closed during this time period
URL:https://locusthillsgc.com/event/clubhouse-closed/
END:VEVENT
BEGIN:VEVENT
DTSTART;VALUE=DATE:20171123
DTEND;VALUE=DATE:20171124
DTSTAMP:20260421T075818
CREATED:20171121T164112Z
LAST-MODIFIED:20171121T164112Z
UID:4885-1511395200-1511481599@locusthillsgc.com
SUMMARY:Happy Thanksgiving!
DESCRIPTION:Locust Hills will be closed to celebrate Thanksgiving! \nOpen Black Friday!!
URL:https://locusthillsgc.com/event/happy-thanksgiving/
END:VEVENT
END:VCALENDAR